Workbook

Sheet 審査申込書
B2: 菊川市１％地域づくり活動交付金審査申込書
R4: 令和 | T4: 年 | V4: 月 | X4: 日
B6: 菊川市長 長谷川 寬彦 宛
O8: 申請者 団体名
O9: 代表者
B11: 令和９年度において菊川市１％地域づくり活動交付金（地域づくり自由活動部門・
B12: 地域の困った解決部門・行政提案課題解決部門）の審査を受けたいので、関係書類を
B13: 添えて申し込みます。
B15: 1 | D15: 団体区分 | J15: コミュニティ協議会・地域づくり団体
D16: ※いずれかに〇印
B18: 2 | D18: 活動総称(ﾃｰﾏ)
B20: 3 | D20: 総事業費 | J20: ='活動一覧表（審査申込書及び7別紙）'!$F$31 -> 0 | Q20: 円
B22: 4 | D22: 対象経費合計額 | J22: ='活動一覧表（審査申込書及び7別紙）'!$H$31 -> 0 | Q22: 円
B24: 5 | D24: 交付申請額 | J24: ='活動一覧表（審査申込書及び7別紙）'!$F$33 -> 0 | Q24: 円
B26: 6 | D26: 活動実施期間 | O26: から | U26: まで
B28: 7 | D28: 添付書類
C29: (1) 活動一覧表（任意様式）
C30: (2) 菊川市１％地域づくり活動交付金活動計画書（様式第２号）
C31: (3) 活動収支予算書（様式第３号）
C32: (4) 購入予定備品調書（様式第４号）
C33: (5) 計画内容がわかる資料
C34: ア チラシ等の案又は過去の活動で作成したチラシ状況写真等
C35: イ その他市長が指示した資料
C36: (6) 団体概要書（様式第５号）
C37: (7) 団体の運営状況がわかる資料
C38: ア 団体の規約・会則・定款等の写し、団体の役員名簿又は構成員名簿
C39: イ その他市長が指示した資料

Sheet 様式第2号(自由) 
B2: 様式第２号（第６条関係）（用紙 日本産業規格Ａ４縦型）
B4: 菊川市１％地域づくり活動交付金活動計画書（地域づくり自由活動部門）
B6: 部門 | D6: 自由 | I6: 活動名 | AD6: 年目
B7: 活動No.
B8: なぜこの活動をするのか （活動の目的や目標） | F8: 目的
F9: 目的を達成するための活動目標
I10: ※活動する過程で何を、いつまでに、どのようにするのかなど具体的な目標を記入して下さい。
B11: どのような活動をするのか | F11: 実施内容（活動の特徴や工夫点、変更点を記入）
F12: 活動の詳細（時期、場所、参加対象、想定人数、時間など、具体的に記入） | I12: ①【活 動 名】： 【実施時期】： 【活動時間】： 【参加対象】： 【想定人数】： ②【活 動 名】： 【実施時期】： 【活動時間】： 【参加対象】： 【想定人数】：
B13: この活動へ協力してくれる団体 （役割分担があれば合わせて記入）
B14: 活動で見込まれる効果
B15: 今後の展望
C16: ※枠にとらわれず必要に応じて適宜広げてご使用ください。

Sheet 様式第3号別紙 (自由)
B1: 様式第３号別紙（支出の部内訳表）（任意様式）
B2: 支出の部 | AG2: 領収
B3: 項 目 | H3: 内訳（単価・数量）・説明 | W3: 事業経費 | AB3: 内対象経費 | AG3: №
B4: 参加費 | AA4: 円 | AF4: 円
B5: 参加費 | AA5: 円 | AF5: 円
B6: 参加費 | AA6: 円 | AF6: 円
B7: 参加費 | AA7: 円 | AF7: 円
B8: 参加費 | AA8: 円 | AF8: 円
B9: 参加費 | AA9: 円 | AF9: 円
B10: 参加費 | AA10: 円 | AF10: 円
B11: 参加費 | AA11: 円 | AF11: 円
B12: 参加費 | AA12: 円 | AF12: 円
B13: 参加費 | AA13: 円 | AF13: 円
B14: 参加費 | AA14: 円 | AF14: 円
B15: 参加費 | AA15: 円 | AF15: 円
... B53: 参加費 | AA53: 円 | AF53: 円
H54: 参加費小計 | W54: =SUM(W4:Z53) -> 0 | AA54: 円 | AB54: =SUM(AB4:AE53) -> 0 | AF54: 円
B55: 食糧費 | AA55: 円 | AF55: 円
B56: 食糧費 | AA56: 円 | AF56: 円
B57: 食糧費 | AA57: 円 | AF57: 円
B58: 食糧費 | AA58: 円 | AF58: 円
B59: 食糧費 | AA59: 円 | AF59: 円
B60: 食糧費 | AA60: 円 | AF60: 円
B61: 食糧費 | AA61: 円 | AF61: 円
B62: 食糧費 | AA62: 円 | AF62: 円
B63: 食糧費 | AA63: 円 | AF63: 円
B64: 食糧費 | AA64: 円 | AF64: 円
H65: 食糧費小計 | W65: =SUM(W55:Z64) -> 0 | AA65: 円 | AB65: =SUM(AB55:AE64) -> 0 | AF65: 円
B66: 備品費 | AA66: 円 | AF66: 円
B67: 備品費 | AA67: 円 | AF67: 円
B68: 備品費 | AA68: 円 | AF68: 円
B69: 備品費 | AA69: 円 | AF69: 円
B70: 備品費 | AA70: 円 | AF70: 円
B71: 備品費 | AA71: 円 | AF71: 円
B72: 備品費 | AA72: 円 | AF72: 円
B73: 備品費 | AA73: 円 | AF73: 円
B74: 備品費 | AA74: 円 | AF74: 円
B75: 備品費 | AA75: 円 | AF75: 円
B76: 備品費 | AA76: 円 | AF76: 円
B77: 備品費 | AA77: 円 | AF77: 円
...

Sheet 様式第3号  (自由)
B2: 様式第３号（第６条、第９条関係）（用紙 日本産業規格Ａ４縦型）
B4: 活動収支予算書（収支決算書）
B6: 部門 | E6: 自由 | H6: 活動名 | L6: ='様式第2号(自由) '!$L$6 -> 0
B7: 活動№ | E7: ='様式第2号(自由) '!$F$7 -> 0
B8: 活動年数 | E8: ='様式第2号(自由) '!$AB$6 -> 0 | F8: 年目
B11: １ 収入の部
B12: 項 目 | H12: 金額（円） | L12: 内訳・説明
B13: １％交付金 | H13: =IFERROR(ROUNDDOWN($P$13*$X$13/$Z$13,-3),"") | L13: 対象経費( | P13: =$Z$40 -> 0 | S13: 円) × 交付率( | X13: =IF(E8>0,1,0) -> 0 | Y13: ／ | Z13: =_xlfn.IFS(E8=0,0,E8<=3,2,E8>=4,3) -> 0 | AA13: )
B14: 自治会等補助
B15: 参加者負担
B16: 寄付金・補助金等
B17: 販売等収入
B18: 自己資金
B19: 合 計 | H19: =SUM(H13:K18) -> 0
B21: ２ 支出の部
B22: 項 目 | H22: 内訳（単価・数量）・説明 | U22: 事業経費(円) | Z22: 内対象経費(円)
B23: 参加費 | U23: ='様式第3号別紙 (自由)'!$W$54 -> 0 | Z23: ='様式第3号別紙 (自由)'!$AB$54 -> 0
B24: 食糧費 | U24: ='様式第3号別紙 (自由)'!$W$65 -> 0 | Z24: ='様式第3号別紙 (自由)'!$AB$65 -> 0
B25: 備品費 | U25: ='様式第3号別紙 (自由)'!$W$86 -> 0 | Z25: ='様式第3号別紙 (自由)'!$AB$86 -> 0
B26: 通信運搬費 | U26: ='様式第3号別紙 (自由)'!$W$117 -> 0 | Z26: ='様式第3号別紙 (自由)'!$AB$117 -> 0
B27: 謝礼金 | U27: ='様式第3号別紙 (自由)'!$W$168 -> 0 | Z27: ='様式第3号別紙 (自由)'!$AB$168 -> 0
B28: 委託費 | U28: ='様式第3号別紙 (自由)'!$W$184 -> 0 | Z28: ='様式第3号別紙 (自由)'!$AB$184 -> 0
B29: 旅費 | U29: ='様式第3号別紙 (自由)'!$W$195 -> 0 | Z29: ='様式第3号別紙 (自由)'!$AB$195 -> 0
B30: 借上げ料 | U30: ='様式第3号別紙 (自由)'!$W$216 -> 0 | Z30: ='様式第3号別紙 (自由)'!$AB$216 -> 0
B31: 施設使用料 | U31: ='様式第3号別紙 (自由)'!$W$232 -> 0 | Z31: ='様式第3号別紙 (自由)'!$AB$232 -> 0
B32: 手数料 | U32: ='様式第3号別紙 (自由)'!$W$263 -> 0 | Z32: ='様式第3号別紙 (自由)'!$AB$263 -> 0
B33: 燃料費 | U33: ='様式第3号別紙 (自由)'!$W$289 -> 0 | Z33: ='様式第3号別紙 (自由)'!$AB$289 -> 0
B34: 保険料 | U34: ='様式第3号別紙 (自由)'!$W$305 -> 0 | Z34: ='様式第3号別紙 (自由)'!$AB$305 -> 0
B35: 印刷費 | U35: ='様式第3号別紙 (自由)'!$W$341 -> 0 | Z35: ='様式第3号別紙 (自由)'!$AB$341 -> 0
B36: 原材料費 | U36: ='様式第3号別紙 (自由)'!$W$392 -> 0 | Z36: ='様式第3号別紙 (自由)'!$AB$392 -> 0
B37: 小 計 | U37: =SUM(U23:Y36) -> 0 | Z37: =SUM(Z23:AD36) -> 0
B38: 消耗品費 | U38: ='様式第3号別紙 (自由)'!$W$444 -> 0 | Z38: ='様式第3号別紙 (自由)'!$AB$444 -> 0
B39: 諸雑費 | U39: ='様式第3号別紙 (自由)'!$W$475 -> 0 | Z39: ='様式第3号別紙 (自由)'!$AB$475 -> 0
B40: 合 計 | U40: =SUM(U37:Y39) -> 0 | Z40: =SUM(Z37:AD39) -> 0
B41: (注) 支出の部に書ききれない場合は、別紙にまとめて添付すること。

Sheet 様式第2号(解決) 
B2: 様式第２号（第６条関係）（用紙 日本産業規格Ａ４縦型）
B4: 菊川市１％地域づくり活動交付金活動計画書（地域の困った解決部門）
B6: 部門 | D6: 解決 | I6: 活動名 | AD6: 年目
B7: 活動No.
B8: なぜこの活動をするのか （活動の目的や目標） | F8: 目的
F9: 地域課題の現状
I10: ※活動のきっかけとなった地域の課題、課題の対象範囲、またその課題をどのように把握したのかなど、数値や文献などを明示し、具体的に記入してください。
F11: 目的を達成するための活動目標
I12: ※課題を解決するまでの過程に何を、いつまでに、どのようにするのかなど具体的な目標を記入して下さい。
B13: どのような活動をするのか | F13: 実施内容（活動の特徴や工夫点、変更点を記入）
F14: 活動の詳細（時期、場所、参加対象、想定人数、時間など、具体的に記入） | I14: ①【活 動 名】： 【実施時期】： 【活動時間】： 【参加対象】： 【想定人数】： ②【活 動 名】： 【実施時期】： 【活動時間】： 【参加対象】： 【想定人数】：
B15: この活動へ協力してくれる団体 （役割分担があれば合わせて記入）
B16: 活動で見込まれる効果
I17: ※なぜこの活動が地域の課題解決に寄与するのか等を具体的に記入ください。
B18: 今後の展望
C19: ※枠にとらわれず必要に応じて適宜広げてご使用ください。

Sheet 様式第3号別紙 (解決) 
B1: 様式第３号別紙（支出の部内訳表）（任意様式）
B2: 支出の部 | AG2: 領収
B3: 項 目 | H3: 内訳（単価・数量）・説明 | W3: 事業経費 | AB3: 内対象経費 | AG3: №
B4: 参加費 | AA4: 円 | AF4: 円
B5: 参加費 | AA5: 円 | AF5: 円
B6: 参加費 | AA6: 円 | AF6: 円
B7: 参加費 | AA7: 円 | AF7: 円
B8: 参加費 | AA8: 円 | AF8: 円
B9: 参加費 | AA9: 円 | AF9: 円
B10: 参加費 | AA10: 円 | AF10: 円
B11: 参加費 | AA11: 円 | AF11: 円
B12: 参加費 | AA12: 円 | AF12: 円
B13: 参加費 | AA13: 円 | AF13: 円
B14: 参加費 | AA14: 円 | AF14: 円
B15: 参加費 | AA15: 円 | AF15: 円
... B53: 参加費 | AA53: 円 | AF53: 円
H54: 参加費小計 | W54: =SUM(W4:Z53) -> 0 | AA54: 円 | AB54: =SUM(AB4:AE53) -> 0 | AF54: 円
B55: 食糧費 | AA55: 円 | AF55: 円
B56: 食糧費 | AA56: 円 | AF56: 円
B57: 食糧費 | AA57: 円 | AF57: 円
B58: 食糧費 | AA58: 円 | AF58: 円
B59: 食糧費 | AA59: 円 | AF59: 円
B60: 食糧費 | AA60: 円 | AF60: 円
B61: 食糧費 | AA61: 円 | AF61: 円
B62: 食糧費 | AA62: 円 | AF62: 円
B63: 食糧費 | AA63: 円 | AF63: 円
B64: 食糧費 | AA64: 円 | AF64: 円
H65: 食糧費小計 | W65: =SUM(W55:Z64) -> 0 | AA65: 円 | AB65: =SUM(AB55:AE64) -> 0 | AF65: 円
B66: 備品費 | AA66: 円 | AF66: 円
B67: 備品費 | AA67: 円 | AF67: 円
B68: 備品費 | AA68: 円 | AF68: 円
B69: 備品費 | AA69: 円 | AF69: 円
B70: 備品費 | AA70: 円 | AF70: 円
B71: 備品費 | AA71: 円 | AF71: 円
B72: 備品費 | AA72: 円 | AF72: 円
B73: 備品費 | AA73: 円 | AF73: 円
B74: 備品費 | AA74: 円 | AF74: 円
B75: 備品費 | AA75: 円 | AF75: 円
B76: 備品費 | AA76: 円 | AF76: 円
B77: 備品費 | AA77: 円 | AF77: 円
...

Sheet 様式第3号  (解決)
B2: 様式第３号（第６条、第９条関係）（用紙 日本産業規格Ａ４縦型）
B4: 活動収支予算書（収支決算書）
B6: 部門 | E6: 自由 | H6: 活動名 | L6: ='様式第2号(自由) '!$L$6 -> 0
B7: 活動№ | E7: ='様式第2号(自由) '!$F$7 -> 0
B8: 活動年数 | E8: ='様式第2号(解決) '!$AB$6 -> 0 | F8: 年目
B11: １ 収入の部
B12: 項 目 | H12: 金額（円） | L12: 内訳・説明
B13: １％交付金 | H13: =IFERROR(ROUNDDOWN($P$13*$X$13/$Z$13,-3),"") | L13: 対象経費( | P13: =$Z$40 -> 0 | S13: 円) × 交付率( | X13: =_xlfn.IFS($E$8=0,0,$E$8<=2,10,$E$8=3,3,$E$8>=4,1) -> 0 | Y13: ／ | Z13: =_xlfn.IFS($E$8=0,0,$E$8<=2,10,$E$8=3,4,$E$8>=4,3) -> 0 | AA13: )
B14: 自治会等補助
B15: 参加者負担
B16: 寄付金・補助金等
B17: 販売等収入
B18: 自己資金
B19: 合 計 | H19: =SUM(H13:K18) -> 0
B21: ２ 支出の部
B22: 項 目 | H22: 内訳（単価・数量）・説明 | U22: 事業経費(円) | Z22: 内対象経費(円)
B23: 参加費 | U23: ='様式第3号別紙 (解決) '!$W$54 -> 0 | Z23: ='様式第3号別紙 (解決) '!$AB$54 -> 0
B24: 食糧費 | U24: ='様式第3号別紙 (解決) '!$W$65 -> 0 | Z24: ='様式第3号別紙 (解決) '!$AB$65 -> 0
B25: 備品費 | U25: ='様式第3号別紙 (解決) '!$W$86 -> 0 | Z25: ='様式第3号別紙 (解決) '!$AB$86 -> 0
B26: 通信運搬費 | U26: ='様式第3号別紙 (解決) '!$W$117 -> 0 | Z26: ='様式第3号別紙 (解決) '!$AB$117 -> 0
B27: 謝礼金 | U27: ='様式第3号別紙 (解決) '!$W$168 -> 0 | Z27: ='様式第3号別紙 (解決) '!$AB$168 -> 0
B28: 委託費 | U28: ='様式第3号別紙 (解決) '!$W$184 -> 0 | Z28: ='様式第3号別紙 (解決) '!$AB$184 -> 0
B29: 旅費 | U29: ='様式第3号別紙 (解決) '!$W$195 -> 0 | Z29: ='様式第3号別紙 (解決) '!$AB$195 -> 0
B30: 借上げ料 | U30: ='様式第3号別紙 (解決) '!$W$216 -> 0 | Z30: ='様式第3号別紙 (解決) '!$AB$216 -> 0
B31: 施設使用料 | U31: ='様式第3号別紙 (解決) '!$W$232 -> 0 | Z31: ='様式第3号別紙 (解決) '!$AB$232 -> 0
B32: 手数料 | U32: ='様式第3号別紙 (解決) '!$W$263 -> 0 | Z32: ='様式第3号別紙 (解決) '!$AB$263 -> 0
B33: 燃料費 | U33: ='様式第3号別紙 (解決) '!$W$289 -> 0 | Z33: ='様式第3号別紙 (解決) '!$AB$289 -> 0
B34: 保険料 | U34: ='様式第3号別紙 (解決) '!$W$305 -> 0 | Z34: ='様式第3号別紙 (解決) '!$AB$305 -> 0
B35: 印刷費 | U35: ='様式第3号別紙 (解決) '!$W$341 -> 0 | Z35: ='様式第3号別紙 (解決) '!$AB$341 -> 0
B36: 原材料費 | U36: ='様式第3号別紙 (解決) '!$W$392 -> 0 | Z36: ='様式第3号別紙 (解決) '!$AB$392 -> 0
B37: 小 計 | U37: =SUM(U23:Y36) -> 0 | Z37: =SUM(Z23:AD36) -> 0
B38: 消耗品費 | U38: ='様式第3号別紙 (解決) '!$W$444 -> 0 | Z38: ='様式第3号別紙 (解決) '!$AB$444 -> 0
B39: 諸雑費 | U39: ='様式第3号別紙 (解決) '!$W$475 -> 0 | Z39: ='様式第3号別紙 (解決) '!$AB$475 -> 0
B40: 合 計 | U40: =SUM(U37:Y39) -> 0 | Z40: =SUM(Z37:AD39) -> 0
B41: (注) 支出の部に書ききれない場合は、別紙にまとめて添付すること。

Sheet 様式第2号(行政) 
B2: 様式第２号（第６条関係）（用紙 日本産業規格Ａ４縦型）
B4: 菊川市１％地域づくり活動交付金活動計画書（行政提案課題解決部門）
B6: 部門 | D6: 行政（No. | H6: ） | I6: 活動名 | AD6: 年目
B7: 活動No.
B8: なぜこの活動をするのか （活動の目的や目標） | F8: 目的
F9: 提案課題に対する認識
I10: ※提案課題の本質（原因）や、現状について申請者の考察を記入してください。
F11: 自団体の強み（実績や独自の強みを記入）
F12: 目的を達成するための活動目標
I13: ※課題を解決するまでの過程に何を、いつまでに、どのようにするのかなど具体的な目標を記入して下さい。
B14: どのような活動をするのか | F14: 実施内容（活動の特徴や工夫点、変更点を記入）
F15: 活動の詳細（時期、場所、参加対象、想定人数、時間など、具体的に記入） | I15: ①【活 動 名】： 【実施時期】： 【活動時間】： 【参加対象】： 【想定人数】： ②【活 動 名】： 【実施時期】： 【活動時間】： 【参加対象】： 【想定人数】：
B16: この活動へ協力してくれる団体 （役割分担があれば合わせて記入）
B17: 活動で見込まれる効果
I18: ※なぜこの活動が行政提案課題の解決に寄与するのか等を具体的に記入ください。
B19: 今後の展望
C20: ※枠にとらわれず必要に応じて適宜広げてご使用ください。

Sheet 様式第3号別紙 (行政) 
B1: 様式第３号別紙（支出の部内訳表）（任意様式）
B2: 支出の部 | AG2: 領収
B3: 項 目 | H3: 内訳（単価・数量）・説明 | W3: 事業経費 | AB3: 内対象経費 | AG3: №
B4: 参加費 | AA4: 円 | AF4: 円
B5: 参加費 | AA5: 円 | AF5: 円
B6: 参加費 | AA6: 円 | AF6: 円
B7: 参加費 | AA7: 円 | AF7: 円
B8: 参加費 | AA8: 円 | AF8: 円
B9: 参加費 | AA9: 円 | AF9: 円
B10: 参加費 | AA10: 円 | AF10: 円
B11: 参加費 | AA11: 円 | AF11: 円
B12: 参加費 | AA12: 円 | AF12: 円
B13: 参加費 | AA13: 円 | AF13: 円
B14: 参加費 | AA14: 円 | AF14: 円
B15: 参加費 | AA15: 円 | AF15: 円
... B53: 参加費 | AA53: 円 | AF53: 円
H54: 参加費小計 | W54: =SUM(W4:Z53) -> 0 | AA54: 円 | AB54: =SUM(AB4:AE53) -> 0 | AF54: 円
B55: 食糧費 | AA55: 円 | AF55: 円
B56: 食糧費 | AA56: 円 | AF56: 円
B57: 食糧費 | AA57: 円 | AF57: 円
B58: 食糧費 | AA58: 円 | AF58: 円
B59: 食糧費 | AA59: 円 | AF59: 円
B60: 食糧費 | AA60: 円 | AF60: 円
B61: 食糧費 | AA61: 円 | AF61: 円
B62: 食糧費 | AA62: 円 | AF62: 円
B63: 食糧費 | AA63: 円 | AF63: 円
B64: 食糧費 | AA64: 円 | AF64: 円
H65: 食糧費小計 | W65: =SUM(W55:Z64) -> 0 | AA65: 円 | AB65: =SUM(AB55:AE64) -> 0 | AF65: 円
B66: 備品費 | AA66: 円 | AF66: 円
B67: 備品費 | AA67: 円 | AF67: 円
B68: 備品費 | AA68: 円 | AF68: 円
B69: 備品費 | AA69: 円 | AF69: 円
B70: 備品費 | AA70: 円 | AF70: 円
B71: 備品費 | AA71: 円 | AF71: 円
B72: 備品費 | AA72: 円 | AF72: 円
B73: 備品費 | AA73: 円 | AF73: 円
B74: 備品費 | AA74: 円 | AF74: 円
B75: 備品費 | AA75: 円 | AF75: 円
B76: 備品費 | AA76: 円 | AF76: 円
B77: 備品費 | AA77: 円 | AF77: 円
...

Sheet 様式第3号  (行政)
B2: 様式第３号（第６条、第９条関係）（用紙 日本産業規格Ａ４縦型）
B4: 活動収支予算書（収支決算書）
B6: 部門 | H6: 活動名 | L6: ='様式第2号(自由) '!$L$6 -> 0
B7: 活動№ | E7: ='様式第2号(自由) '!$F$7 -> 0
B8: 活動年数 | E8: ='様式第2号(行政) '!$AB$6 -> 0 | F8: 年目
B11: １ 収入の部
B12: 項 目 | H12: 金額（円） | L12: 内訳・説明
B13: １％交付金 | H13: =IFERROR(ROUNDDOWN($P$13*$X$13/$Z$13,-3),"") | L13: 対象経費( | P13: =$Z$40 -> 0 | S13: 円) × 交付率( | X13: =IF($E$8>=1,10,0) -> 0 | Y13: ／ | Z13: =IF($E$8>=1,10,0) -> 0 | AA13: )
B14: 自治会等補助
B15: 参加者負担
B16: 寄付金・補助金等
B17: 販売等収入
B18: 自己資金
B19: 合 計 | H19: =SUM(H13:K18) -> 0
B21: ２ 支出の部
B22: 項 目 | H22: 内訳（単価・数量）・説明 | U22: 事業経費(円) | Z22: 内対象経費(円)
B23: 参加費 | U23: ='様式第3号別紙 (行政) '!$W$54 -> 0 | Z23: ='様式第3号別紙 (行政) '!$AB$54 -> 0
B24: 食糧費 | U24: ='様式第3号別紙 (行政) '!$W$65 -> 0 | Z24: ='様式第3号別紙 (行政) '!$AB$65 -> 0
B25: 備品費 | U25: ='様式第3号別紙 (行政) '!$W$86 -> 0 | Z25: ='様式第3号別紙 (行政) '!$AB$86 -> 0
B26: 通信運搬費 | U26: ='様式第3号別紙 (行政) '!$W$117 -> 0 | Z26: ='様式第3号別紙 (行政) '!$AB$117 -> 0
B27: 謝礼金 | U27: ='様式第3号別紙 (行政) '!$W$168 -> 0 | Z27: ='様式第3号別紙 (行政) '!$AB$168 -> 0
B28: 委託費 | U28: ='様式第3号別紙 (行政) '!$W$184 -> 0 | Z28: ='様式第3号別紙 (行政) '!$AB$184 -> 0
B29: 旅費 | U29: ='様式第3号別紙 (行政) '!$W$195 -> 0 | Z29: ='様式第3号別紙 (行政) '!$AB$195 -> 0
B30: 借上げ料 | U30: ='様式第3号別紙 (行政) '!$W$216 -> 0 | Z30: ='様式第3号別紙 (行政) '!$AB$216 -> 0
B31: 施設使用料 | U31: ='様式第3号別紙 (行政) '!$W$232 -> 0 | Z31: ='様式第3号別紙 (行政) '!$AB$232 -> 0
B32: 手数料 | U32: ='様式第3号別紙 (行政) '!$W$263 -> 0 | Z32: ='様式第3号別紙 (行政) '!$AB$263 -> 0
B33: 燃料費 | U33: ='様式第3号別紙 (行政) '!$W$289 -> 0 | Z33: ='様式第3号別紙 (行政) '!$AB$289 -> 0
B34: 保険料 | U34: ='様式第3号別紙 (行政) '!$W$305 -> 0 | Z34: ='様式第3号別紙 (行政) '!$AB$305 -> 0
B35: 印刷費 | U35: ='様式第3号別紙 (行政) '!$W$341 -> 0 | Z35: ='様式第3号別紙 (行政) '!$AB$341 -> 0
B36: 原材料費 | U36: ='様式第3号別紙 (行政) '!$W$392 -> 0 | Z36: ='様式第3号別紙 (行政) '!$AB$392 -> 0
B37: 小 計 | U37: =SUM(U23:Y36) -> 0 | Z37: =SUM(Z23:AD36) -> 0
B38: 消耗品費 | U38: ='様式第3号別紙 (行政) '!$W$444 -> 0 | Z38: ='様式第3号別紙 (行政) '!$AB$444 -> 0
B39: 諸雑費 | U39: ='様式第3号別紙 (行政) '!$W$475 -> 0 | Z39: ='様式第3号別紙 (行政) '!$AB$475 -> 0
B40: 合 計 | U40: =SUM(U37:Y39) -> 0 | Z40: =SUM(Z37:AD39) -> 0
B41: (注) 支出の部に書ききれない場合は、別紙にまとめて添付すること。

Sheet 様式第4号
B1: 様式第４号（第６条関係）（用紙 日本産業規格Ａ４縦型）
B2: 購入予定備品調書
B4: 部門 | H4: 活動名
B5: 活動№
B7: 備品名及び数量
B10: 価格又は合計額
B13: 購入理由
B14: （必要性・効果）
B17: 貸出しの可・不可 | J17: 可 | K17: ・ | L17: 一部可 | N17: ・ | O17: 不可
B20: 添付書類
B29: カタログ・見積書貼り付け場所
M31: （別紙でも可）
B39: (注)
B40: １ | C40: この調書は、税込５万円以上の備品を購入する場合、もしくは購入する備品の合計額が５万円以上となった場合に、１活動につき１枚添付する。複数の備品も１枚にまとめて記入する。
B42: ２ | C42: 見積書とカタログ等を添付すること。
C46: ※ 枠の中で改行する方法 ⇒ Altボタンを押しながらEnterボタン(改行ボタン)

Sheet 様式第5号
B2: 様式第５号（第６条関係）（用紙 日本産業規格Ａ４縦型）
B3: 団体概要書
B5: ( ﾌ ﾘ ｶﾞ ﾅ)
B6: 団 体 名 | G6: =審査申込書!$Q$8 -> 0
B7: 代表者職氏名
B9: 所 在 地 | G9: 〒
B11: 設 立 年 月 | I11: 年 | K11: 月 | M11: 構成員人数 | Q11: 人（ 令和 年 月 日現在）
B13: 団体の設立趣旨
B17: 団体の目指す将来像及び目標
G22: 氏 名
G23: 住 所 | J23: 〒
B24: 担当者連絡先
B25: (公開・非公開) | G25: 電 話
B26: ※どちらかに〇印 | G26: Ｆ Ａ Ｘ
G27: 携帯電話
G28: ﾒｰﾙｱﾄﾞﾚｽ
G29: HP・SNS | J29: HP・LINE・Instagram・Facebook・X・その他（ ）
C32: ※ 枠の中で改行する方法 ⇒ Altボタンを押しながらEnterボタン(改行ボタン)

Sheet 活動一覧表（審査申込書及び7別紙）
B2: 審査申込書及び第７号別紙（活動一覧表）（任意様式）
B4: 団体名： | E4: =審査申込書!$Q$8 -> 0
B5: 活 動 名 | F5: 事業経費 | H5: 交付対象経費 | J5: (活動実施期間) 交付率 | O5: 1％交付金額
B6: 自由活動 | C6: 1 | D6: ='様式第2号(自由) '!$L$6 -> 0 | F6: ='様式第3号 (自由)'!$U$40 -> 0 | G6: 円 | H6: ='様式第3号 (自由)'!$Z$40 -> 0 | I6: 円 | J6: ( | K6: ='様式第2号(自由) '!$AB$6 -> 0 | L6: 年目) | O6: ='様式第3号 (自由)'!$H$13 | P6: 円
J7: ='様式第3号 (自由)'!$X$13 -> 0 | L7: ／ | M7: ='様式第3号 (自由)'!$Z$13 -> 0
C8: 2 | G8: 円 | I8: 円 | J8: ( | L8: 年目) | P8: 円
L9: ／
C10: 3 | G10: 円 | I10: 円 | J10: ( | L10: 年目) | P10: 円
L11: ／
C12: 4 | G12: 円 | I12: 円 | J12: ( | L12: 年目) | P12: 円
L13: ／
C14: 5 | G14: 円 | I14: 円 | J14: ( | L14: 年目) | P14: 円
L15: ／
C16: 小 計 | F16: =SUM($F$7:$F$15) -> 0 | G16: 円 | H16: =SUM($H$7:$H$15) -> 0 | I16: 円 | O16: =SUM($O$6:$O$15) -> 0 | P16: 円
B17: 困った解決 | C17: 1 | D17: ='様式第2号(解決) '!$L$6 -> 0 | F17: ='様式第3号 (解決)'!$U$40 -> 0 | G17: 円 | H17: ='様式第3号 (解決)'!$Z$40 -> 0 | I17: 円 | J17: ( | K17: ='様式第2号(解決) '!$AB$6 -> 0 | L17: 年目) | O17: ='様式第3号 (解決)'!$H$13 | P17: 円
J18: ='様式第3号 (解決)'!$X$13 -> 0 | L18: ／ | M18: ='様式第3号 (解決)'!$Z$13 -> 0
C19: 2 | G19: 円 | I19: 円 | J19: ( | L19: 年目) | P19: 円
L20: ／
C21: 3 | G21: 円 | I21: 円 | J21: ( | L21: 年目) | P21: 円
L22: ／
C23: 4 | G23: 円 | I23: 円 | J23: ( | L23: 年目) | P23: 円
L24: ／
C25: 5 | G25: 円 | I25: 円 | J25: ( | L25: 年目) | P25: 円
L26: ／
C27: 小 計 | F27: =SUM($F$17:$F$26) -> 0 | G27: 円 | H27: =SUM($H$17:$H$26) -> 0 | I27: 円 | O27: =SUM($O$17:$O$26) -> 0 | P27: 円
B28: 行政提案 | C28: 1 | D28: ='様式第2号(行政) '!$L$6 -> 0 | F28: ='様式第3号 (行政)'!$U$40 -> 0 | G28: 円 | H28: ='様式第3号 (行政)'!$Z$40 -> 0 | I28: 円 | J28: ( | K28: ='様式第2号(行政) '!$AB$6 -> 0 | L28: 年目) | O28: ='様式第3号 (行政)'!$H$13 | P28: 円
J29: ='様式第3号 (行政)'!$X$13 -> 0 | L29: ／ | M29: ='様式第3号 (行政)'!$Z$13 -> 0
C30: 小 計 | F30: =F28 -> 0 | G30: 円 | H30: =H28 -> 0 | I30: 円 | O30: =O28 | P30: 円
B31: 合 計 | F31: =$F$16+$F$27+$F$30 -> 0 | G31: 円 | H31: =$H$16+$H$27+$H$30 -> 0 | I31: 円 | O31: =SUM($O$16,$O$27,$O$30) -> 0 | P31: 円
B33: １％交付金申請額 | F33: =$O$31 -> 0 | J33: 円 | O33: （千円未満切捨て）
B35: ※ この様式は任意様式です。同じ内容が確認できれば、どんな様式でもかまいません。
B36: ※ この様式は、審査申込書と様式第７号の別紙として使用できます。
B37: ※ 活動が一つの場合はこの様式を省くことができます。

Sheet 様式第1号
B2: 様式第１号（第６条関係）（用紙 日本産業規格Ａ４縦型）
B4: 菊川市１％地域づくり活動交付金交付申請書
Q6: 年 月 日
B8: 菊川市長 長谷川 寬彦 宛
L10: 申請者 | N10: 団体名
N11: 代表者
B13: 年度において菊川市１％地域づくり活動交付金（地域づくり自由活動部門・
B14: 地域の困った解決部門・行政提案課題解決部門）の交付を受けたいので、関係書類を添え
B15: て申請します。
B17: 1 | D17: 団体区分 | J17: コミュニティ協議会・地域づくり団体
D18: ※いずれかに〇印
B20: 2 | D20: 活動総称(ﾃｰﾏ)
B22: 3 | D22: 総事業費 | Q22: 円
B24: 4 | D24: 対象経費合計額 | Q24: 円
B26: 5 | D26: 交付申請額 | Q26: 円
B28: 6 | D28: 活動実施期間 | J28: 年 月 日から 年 月 日まで
B30: 7 | D30: 添付書類
C31: (1) 活動一覧表（任意様式）
C32: (2) 菊川市１％地域づくり活動交付金活動計画書（様式第２号）
C33: (3) 活動収支予算書（様式第３号）
C34: (4) 購入予定備品調書（様式第４号）
C35: (5) 計画内容がわかる資料
C36: ア チラシ等の案又は過去の活動で作成したチラシ状況写真等
C37: イ その他市長が指示した資料
C38: (6) 団体概要書（様式第５号）
C39: (7) 団体の運営状況がわかる資料
C40: ア 団体の規約・会則・定款等の写し、団体の役員名簿又は構成員名簿
C41: イ その他市長が指示した資料
B43: (注) 交付申請書類は、原則公開となります。

Sheet 様式第1号及び7号別紙
B2: 様式第１号及び第７号別紙（活動一覧表）（任意様式）
B4: 団体名：
B5: 活 動 名 | E5: 事業経費 | G5: 交付対象経費 | I5: (活動実施期間) 交付率 | J5: 1％交付金額
B6: 地域づくり自由活動部門 | C6: 1 | F6: 円 | H6: 円 | I6: ( 年目) ／ | K6: 円
C7: 2 | F7: 円 | H7: 円 | I7: ( 年目) ／ | K7: 円
C8: 3 | F8: 円 | H8: 円 | I8: ( 年目) ／ | K8: 円
C9: 4 | F9: 円 | H9: 円 | I9: ( 年目) ／ | K9: 円
C10: 5 | F10: 円 | H10: 円 | I10: ( 年目) ／ | K10: 円
C11: 小 計 | F11: 円 | H11: 円 | K11: 円
B12: 地域の困った解決部門 | C12: 1 | F12: 円 | H12: 円 | I12: ( 年目) ／ | K12: 円
C13: 2 | F13: 円 | H13: 円 | I13: ( 年目) ／ | K13: 円
C14: 3 | F14: 円 | H14: 円 | I14: ( 年目) ／ | K14: 円
C15: 4 | F15: 円 | H15: 円 | I15: ( 年目) ／ | K15: 円
C16: 5 | F16: 円 | H16: 円 | I16: ( 年目) ／ | K16: 円
C17: 小 計 | F17: 円 | H17: 円 | K17: 円
B18: 合 計 | F18: 円 | H18: 円 | K18: 円
B20: １％交付金申請額 | I20: 円 | J20: （千円未満切捨て）
B22: ※ この様式は任意様式です。同じ内容が確認できれば、どんな様式でもかまいません。
B23: ※ この様式は、様式第１号と様式第７号の別紙として使用できます。
B24: ※ 活動が一つの場合はこの様式を省くことができます。

Sheet 様式第６号
A1: 様式第６号（第７条関係）（用紙 日本産業規格Ａ４縦型）
A2: 菊川市１％地域づくり活動交付金交付決定（概算払承認）通知書
AB4: 菊 総 地 第 号
AB5: 令和 年 月 日
A7: 団体名
A8: 代表者 | M8: 様
Z10: 菊川市長 長谷川 寬彦 | AA10: 印
A12: 年 月 日付けで申請があった菊川市１％地域づくり活動交付金の交付
A13: について、次のとおり決定します。
A14: なお、概算払については、３のとおり承認します。
A16: １ 交付金の対象となる事業
B17: (1) 活動総称
B18: (2) 活動内容
A19: □採択：交付申請書に記載されたとおりとする。
A20: □条件付採択：一部修正の上、別紙のとおりとする。
A22: ２ 交付決定金額は、金 | P22: 円とする。
A24: ３ 承認の内容
A25: (1) 金額 | L25: 円
A26: (2) 理由
A28: ４ 交付の条件
B29: (1) 事業を中止し、又は廃止しようとする場合は、あらかじめ、市長の承認を受けてください。
B30: (2) 事業が予定の期間内に完了しない場合、事業の遂行が困難となった場合又は事業に要する経費
B31: の配分の変更をしようとする場合は、速やかに市長に報告し、その指示を受けてください。
B32: (3) 事業により取得し、又は効用の増加した財産については、事業の完了後においても適切に管理
B33: してください。
B34: (4) 交付金の収支に関する帳簿や領収書等関係書類を整理し、これらの帳書類を交付金の交付を受
B35: けた年度終了後５年間は保管してください。
B36: (5) 年度末に開催する「１％地域づくり活動交付金活動報告会」には、必ず参加してください。ま
B37: た、その他に市が実施する講座及び研修会等へも積極的な参加をお願いします。
B38: (6) 菊川市補助金等交付規則及び菊川市１％地域づくり活動交付金交付要綱を遵守してください。

Sheet 様式第７号
A1: 様式第７号（第９条関係）（用紙 日本産業規格Ａ４縦型）
A2: 菊川市１％地域づくり活動交付金実績報告書
V4: 令和 年 月 日
A6: 菊川市長 長谷川 寬彦 宛
R8: 申請者 団体名
R9: 代表者
A11: 令和 年 月 日付け菊総地第 号により交付金の交付の決定を受けた令和９年度菊川
A12: 市１％地域づくり活動交付金事業が完了したので、その実績について関係書類を添えて報
A13: 告します。
A15: 1 | C15: 活動総称(ﾃｰﾏ)
A17: 2 | C17: 交付決定額 | S17: 円
A19: 3 | C19: １％交付金額 | S19: 円
A21: 4 | C21: 活動実施期間 | J21: 令和 年 月 日から 令和 年 月 日まで
A23: 5 | C23: 添付書類
A24: (1) 活動一覧表（任意様式）
A25: (2) 菊川市１％地域づくり活動交付金活動報告書（様式第８号）
A26: (3) 活動収支決算書（様式第３号）
A27: (4) 活動の状況や内容がわかる資料
A28: ア 交付対象経費の領収書の写し（Ａ４版に、項目別にまとめて添付）
A29: イ 企画書、チラシ、ポスター等（コピー可）
A30: ウ 活動の状況がわかる写真（Ａ４版にまとめて添付）
A32: (注) 実績報告書類は、原則公開となります。

Sheet 様式第８号(自由)
B2: 様式第８号（第９条関係）（用紙 日本産業規格Ａ４縦型）
B4: 菊川市１％地域づくり活動交付金活動報告書（地域づくり自由活動部門）
B6: 部門 | D6: 自由 | I6: 活動名 | AD6: 年目
B7: 活動№
B8: 活動内容 （実施内容、日時、場所、参加人数など、具体的に記入） | F8: 実施内容
F9: 活動の詳細（各活動の参加人数、活動時間を必ず記入）
B10: 活動の目的や目標に対する成果や効果
B11: 活動に協力してくれた団体 （役割分担があれば合わせて記入）
B12: 活動の反省点（前年度の反省から改善できた点、次回の改善点などを記入）
C14: ※ 枠の中で改行する方法 ⇒ Altボタンを押しながらEnterボタン(改行ボタン)

Sheet 様式第８号 (解決)
B2: 様式第８号（第９条関係）（用紙 日本産業規格Ａ４縦型）
B4: 菊川市１％地域づくり活動交付金活動報告書（地域の困った解決部門）
B6: 部門 | D6: 解決 | I6: 活動名 | AD6: 年目
B7: 活動№
B8: 活動内容 （実施内容、日時、場所、参加人数など、具体的に記入） | F8: 実施内容
F9: 活動の詳細（各活動の参加人数、活動時間を必ず記入）
B10: 活動の目的や目標に対する成果や効果
B11: 課題に対する変化 （今回の活動を通じて、課題がどう変化したか。参加者の声や変化等）
B12: 活動に協力してくれた団体 （役割分担があれば合わせて記入）
B13: 活動の反省点（前年度の反省から改善できた点、次回の改善点などを記入）
C15: ※ 枠の中で改行する方法 ⇒ Altボタンを押しながらEnterボタン(改行ボタン)

Sheet 様式第８号 (行政)
B2: 様式第８号（第９条関係）（用紙 日本産業規格Ａ４縦型）
B4: 菊川市１％地域づくり活動交付金活動報告書（行政提案課題解決部門）
B6: 部門 | D6: 行政（No. | H6: ） | I6: 活動名 | AD6: 年目
B7: 活動№
B8: 活動内容 （実施内容、日時、場所、参加人数など、具体的に記入） | F8: 実施内容
F9: 活動の詳細（各活動の参加人数、活動時間を必ず記入）
B10: 活動の目的や目標に対する成果や効果
B11: 課題に対する変化 （今回の活動を通じて、課題がどう変化したか。参加者の声や変化等）
B12: 活動に協力してくれた団体 （役割分担があれば合わせて記入）
B13: 活動の反省点（前年度の反省から改善できた点、次回の改善点などを記入）
C15: ※ 枠の中で改行する方法 ⇒ Altボタンを押しながらEnterボタン(改行ボタン)

Sheet 様式第９号
A1: 様式第９号（第10条関係）
A2: 菊川市１％地域づくり活動交付金交付確定通知書
AB4: 菊 総 地 第 号
AB5: 令和 年 月 日
A7: 団体名
A8: 代表者 | L8: 様
Z10: 菊川市長 長谷川 寬彦 | AA10: 印
A12: 令和 年 月 日付け菊総地第 号により決定した菊川市１％地域づくり
A13: 活動交付金の交付について、次のとおり確定します。
A15: １ 交付確定額 | O15: 円
A17: ２ 交付決定額 | O17: 円

Sheet 様式第10号
B2: 様式第10号（第11条、第12条関係）（用紙 日本産業規格Ａ４縦型）
A4: 請求書（概算払請求書）
B6: 金 | J6: 円
B8: ただし、 年 月 日付け菊総地第 号により交付の確定（決定）を
B9: 受けた菊川市１％地域づくり活動交付金として、上記のとおり請求します。
U11: 年 月 日
A13: 菊川市長 長谷川 寬彦 宛
M15: 住所又は所在地
Q16: 団 体 名
Q17: 代表者氏名
B19: 口座振込先 金融機関名 | F19: 金融機関名 | Q19: 口座種別 | U19: 普通・当座・その他（ ）
F20: 本・支店名 | Q20: 口座番号
B21: フリガナ
B22: 口座名義

Sheet チェックシート
B1: ★このチェックシートは、審査申込書と一緒に提出してください。
B3: １％地域づくり活動交付金 応募のためのチェックシート
J5: 団体名
D8: 応募資格がある団体ですか？
D10: 今回応募する事業は、交付の対象となる公益的な活動ですか？
D12: 当交付金以外の行政機関からの助成を受けない、また受ける予定のない事業ですか？
D14: 事業経費、対象経費、１％交付金額の計算に誤りはなく、補助率や上限額は合ってい
D15: ますか？
D17: 活動審査会に出席できますか？ 開催日：令和８年12月５日（土）
D18: ※やむを得ず、どうしても参加できない場合、地域支援課にご連絡ください。
D20: 応募の手引きに示した、申請に必要な様式及び添付資料はそろっていますか？
D22: □審査申込書 □審査申込書別紙（活動が複数の場合） □様式第２号 □様式第３号 □様式第３号別紙（必要に応じて） □様式第４号（必要に応じて） □様式第５号 □団体の決算書（１％交付金以外で収支がある場合） □構成員又は役員名簿 □団体規約 □その他参考となる資料
D24: １％交付金の審査では、次のような視点で審査を行います。
D25: 応募書類を提出する前に、チェックしてみましょう。
D30: 審査要領５ページの、審査基準を確認しましたか？
... D42: 今回、１％交付金を活用することで期待できる効果について、説明できますか？
